BEGIN:VCALENDAR
VERSION:2.0
PRODID:-//The BIGGS Museum - ECPv6.15.20//NONSGML v1.0//EN
CALSCALE:GREGORIAN
METHOD:PUBLISH
X-ORIGINAL-URL:https://www.thebiggsmuseum.org
X-WR-CALDESC:Events for The BIGGS Museum
REFRESH-INTERVAL;VALUE=DURATION:PT1H
X-Robots-Tag:noindex
X-PUBLISHED-TTL:PT1H
BEGIN:VTIMEZONE
TZID:America/New_York
BEGIN:DAYLIGHT
TZOFFSETFROM:-0500
TZOFFSETTO:-0400
TZNAME:EDT
DTSTART:20250309T070000
END:DAYLIGHT
BEGIN:STANDARD
TZOFFSETFROM:-0400
TZOFFSETTO:-0500
TZNAME:EST
DTSTART:20251102T060000
END:STANDARD
BEGIN:DAYLIGHT
TZOFFSETFROM:-0500
TZOFFSETTO:-0400
TZNAME:EDT
DTSTART:20260308T070000
END:DAYLIGHT
BEGIN:STANDARD
TZOFFSETFROM:-0400
TZOFFSETTO:-0500
TZNAME:EST
DTSTART:20261101T060000
END:STANDARD
BEGIN:DAYLIGHT
TZOFFSETFROM:-0500
TZOFFSETTO:-0400
TZNAME:EDT
DTSTART:20270314T070000
END:DAYLIGHT
BEGIN:STANDARD
TZOFFSETFROM:-0400
TZOFFSETTO:-0500
TZNAME:EST
DTSTART:20271107T060000
END:STANDARD
BEGIN:DAYLIGHT
TZOFFSETFROM:-0500
TZOFFSETTO:-0400
TZNAME:EDT
DTSTART:20280312T070000
END:DAYLIGHT
BEGIN:STANDARD
TZOFFSETFROM:-0400
TZOFFSETTO:-0500
TZNAME:EST
DTSTART:20281105T060000
END:STANDARD
END:VTIMEZONE
BEGIN:VEVENT
DTSTART;TZID=America/New_York:20260102T100000
DTEND;TZID=America/New_York:20270103T170000
DTSTAMP:20260424T062626
CREATED:20251002T190146Z
LAST-MODIFIED:20260206T163500Z
UID:10000148-1767348000-1798995600@www.thebiggsmuseum.org
SUMMARY:Reflections: 25 Objects for 250 Years of Delaware History
DESCRIPTION:2nd Floor\, Interspersed with the Permanent Collection \nReflections: 25 Objects for 250 Years of Delaware History \nJanuary 2\, 2026 – January 3\, 2027 \nDuring 2026\, we celebrate the nation’s 250th anniversary—reflecting on our shared history as well as our aspirations for future generations.  This exhibition is drawn from the museum’s permanent collection and curated entirely by members of our Delaware community. \nCommunity Curators were selected to reflect a wide range of perspectives across the state.  Each one was tasked with selecting and writing about an object they believed represented the region’s history or felt particularly relevant to our contemporary moment. Participants included: Aubrey Plaza\, actor\, writer\, and producer; Ken Burns\, documentary filmmaker; U.S. Senator Lisa Blunt Rochester (D-DE); Col. Jamil I. Musa\, Commander\, 436th Airlift Wing\, Dover Air Force Base; Sam and Mariah Calagione\, Co-Founders of Dogfish Head craft brewery; and Murray Archibald\, Co-Founder of CAMP Rehoboth\, an LGBTQ+ community center. \n In celebration of Delaware’s role in the founding of the United States and the nation’s 250th anniversary\, the Biggs Museum of American Art presents Reflections: 25 Objects for 250 Years of Delaware History.  Drawn from the Museum’s permanent collection\, the exhibition was curated entirely by members of our Delaware community\, including actor\, writer\, and producer Aubrey Plaza and documentary filmmaker Ken Burns.    \nEach Community Curator chose a work of art they believed represented the region’s history or felt particularly relevant to our current moment.  Then\, they wrote a response to explain their choice\, drawing on their own unique background\, expertise\, and lived experience.  These responses appear on wall labels in the exhibition and will be shared on the Museum’s website and social media throughout 2026.    \nThe exhibition’s Community Curators reflect a wide range of fields and perspectives from across the state.  They include: Senator Lisa Blunt Rochester (D-DE)\, U.S. Senator for Delaware; Col. Jamil I. Musa\, USAF\, Commander\, 436th Airlift Wing\, Dover Air Force Base; Sam and Mariah Calagione\, co-founders of Dogfish Head; Murray Archibald\, Artist and co-founder of CAMP Rehoboth;  and Joyce Enzor Maust\, Current DE House of Representatives Poet Laureate.  Additional participants include environmental stewards\, historians\, craftspeople\, arts leaders\, educators\, health care providers\, and civic voices.  \nTheir responses address themes such as time and memory\, land and stewardship\, freedom and resistance\, craft and labor\, identity and belonging\, and the enduring power of creativity in moments of change. From colonial furniture and Revolutionary-era imagery to contemporary sculpture and works shaped by nature\, the exhibition reveals how Delaware’s history is both deeply rooted and continually reinterpreted.  \n“Any moment of commemoration is an opportunity both to reflect back on our shared history and look forward\, considering our hopes for future generations\,” said Biggs Museum curator Laura Fravel. “Our Reflections exhibition invited Community Curators to share their own unique perspectives as we celebrate the nation’s 250th anniversary.  The story of Delaware—and America—has always been shaped by many voices.  And it is still being written.”    \nReflections will remain on view throughout the anniversary year.  A related book includes a Foreword by Governor Matt Meyer.   
URL:https://www.thebiggsmuseum.org/event/reflections-25-objects-for-250-years-of-delaware-history/
ATTACH;FMTTYPE=image/jpeg:https://www.thebiggsmuseum.org/wp-content/uploads/2025/10/2004-480-jpg-scaled.jpg
END:VEVENT
BEGIN:VEVENT
DTSTART;TZID=America/New_York:20260129T100000
DTEND;TZID=America/New_York:20270510T170000
DTSTAMP:20260424T062627
CREATED:20260206T184437Z
LAST-MODIFIED:20260413T185137Z
UID:10000150-1769680800-1809968400@www.thebiggsmuseum.org
SUMMARY:The Joy of Pastel: Maryland Pastel Society Signature Exhibition
DESCRIPTION:1st Floor\, Founder’s Gallery \nThe Joy of Pastel: Maryland Pastel Society Signature Exhibition \nJanuary 29 – May 10\, 2026 \nThe Joy of Pastel is a vibrant and refined exhibition featuring works by Signature Members of the Maryland Pastel Society\, artists who have been formally recognized for achieving excellence in the use of soft pastel and the sophisticated application of design principles. Presented at the Biggs Museum of American Art\, this special Signature Member Exhibition highlights the expressive range\, technical mastery\, and creative depth that define contemporary pastel practice in the Mid-Atlantic region. \nSoft pastel is a demanding medium—requiring precision\, confidence\, and an intimate understanding of color\, light\, and surface. The 30 featured artists represented in The Joy of Pastel have demonstrated exceptional skill in navigating these challenges\, producing works that range from luminous landscapes and compelling still lifes to evocative figurative and abstract compositions. Together\, the exhibition offers visitors an opportunity to experience the versatility of pastel as both a drawing and painting medium\, capable of remarkable subtlety as well as bold\, immediate impact. \nSignature Member status within the Maryland Pastel Society is a distinction earned through a rigorous review process and reflects a sustained commitment to artistic excellence. The Society itself\, founded in 1977\, holds a distinguished place in the history of American pastel art. It is the oldest state pastel society in the country and an active member of the International Association of Pastel Societies. While its roots are in the Baltimore region\, the Society now includes more than 200 members from across the Mid-Atlantic\, fostering a dynamic community of artists united by a shared dedication to the medium. \nBeyond exhibitions\, the Maryland Pastel Society is deeply invested in education and public engagement. Through lectures\, demonstrations\, workshops\, and online resources\, the Society supports both the creative and technical development of its members while expanding public appreciation for pastel art. The Joy of Pastel reflects this mission\, presenting work that is both technically accomplished and accessible\, inviting viewers to engage closely with the texture\, color\, and immediacy that define soft pastel. \nBy hosting this Signature Member Exhibition\, the Biggs Museum of American Art continues its commitment to showcasing regional artistic excellence and strengthening connections between Delaware audiences and leading arts organizations throughout the Mid-Atlantic. The Joy of Pastel celebrates not only the achievements of individual artists\, but also the enduring vitality of pastel as a medium and the collaborative spirit that sustains it. \n 
URL:https://www.thebiggsmuseum.org/event/the-joy-of-pastel-maryland-pastel-society-signature-exhibition/
CATEGORIES:Current Exhibitions,EXHIBITIONS
ATTACH;FMTTYPE=image/jpeg:https://www.thebiggsmuseum.org/wp-content/uploads/2026/02/Andrew_MonetMemory.jpg
END:VEVENT
BEGIN:VEVENT
DTSTART;TZID=America/New_York:20260212T100000
DTEND;TZID=America/New_York:20260622T170000
DTSTAMP:20260424T062627
CREATED:20260206T164724Z
LAST-MODIFIED:20260218T200123Z
UID:10000149-1770890400-1782147600@www.thebiggsmuseum.org
SUMMARY:The Art of Elizabeth Catlett: from the Collection of Samella Lewis
DESCRIPTION:3rd Floor \n The Art of Elizabeth Catlett: from the Collection of Samella Lewis  \nFebruary 12 – June 22\, 2026 \nElizabeth Catlett (1915-2012)\, a sculptor and printmaker\, is widely considered one of the most important African American artists of the 20th century. Her work blended art and social consciousness and confronted the most disturbing injustices against African Americans. She is best known for her work during the 1960s and 70s\, when she created politically charged\, black expressionistic sculptures and prints. Catlett\, a sculptor and graphic artist\, was born in Washington\, D.C. in 1919. She attended Howard University where she studied design\, printmaking and drawing. In 1940 Catlett became the first student to receive a Master’s degree in sculpture at the University of Iowa. In 1946 Catlett received a fellowship that allowed her to travel to Mexico City where she studied painting\, sculpture and lithography. There\, she worked with the People’s Graphic Arts Workshop\, a group of printmakers dedicated to using their art to promote social change. After settling in Mexico and later becoming a Mexican citizen\, she taught sculpture at the National Autonomous University of Mexico in Mexico City until retiring in 1975. \nThe works in this exhibition come from the collection of artist\, educator and author Samella Lewis\, Ph.D.\, Professor Emerita\, Art History\, Scripps College\, Claremont\, CA. Lewis was a student of Catlett’s in the 1940’s and Catlett became her mentor. The two became lifetime friends. Samella Lewis writes: “Elizabeth Catlett was my friend and my mentor in art. She is the reason that I began to see and think creatively. When I first met Elizabeth in 1941\, my attempts at making art were strictly based on visual concepts of the European models. Upon my graduation from high school\, it was my good fortune to receive a scholarship to study at Dillard University where Elizabeth was the art professor.” \n“Dillard did not offer a studio art major\, however\, with Elizabeth’s assistance I was able to obtain an art scholarship from Hampton Institute to study with Dr. Viktor Lowenfeld who at that time was regarded as the most important scholar in the field of art. While I was a student at Hampton\, Elizabeth and Lowenfeld opened many art doors for me. With the passing of Lowenfeld\, Elizabeth remained my friend. I shall always remember her as being my mentor who was responsible for my life in art.” \n“With her recent passing\, she still lives in my life and my heart as my teacher and my friend. I will always remember her and be thankful for her friendship” \n  \n\n		\n		\n			\n				\n			\n				\n				Elizabeth Catlett\, 1946\, “Pensive”\, bronze 16 1/2 x 10 1/2 x 8\n\n© 2026 Mora-Catlett Family / Licensed by VAGA at Artists Rights Society (ARS)\, NY\n				\n			\n				\n			\n				\n				Elizabeth Catlett\, 1990\, “Dancing” lithograph\, edition 34/100\n© 2026 Mora-Catlett Family / Licensed by VAGA at Artists Rights Society (ARS)\, NY\n				\n			\n				\n			\n				\n				Elizabeth Catlett\, 1983\, “Survivor”\, woodcut\, AP 11 x 10″\n© 2026 Mora-Catlett Family / Licensed by VAGA at Artists Rights Society (ARS)\, NY\n				\n			\n				\n			\n				\n				Elizabeth Catlett\, 1965\, “Sharecropper”\, linocut\, AP 17 3/8 x 16 1/2″\n© 2026 Mora-Catlett Family / Licensed by VAGA at Artists Rights Society (ARS)\, NY\n				\n			\n				\n			\n				\n				Elizabeth Catlett\, 1987\, “These Two Generations”\, lithograph\n© 2026 Mora-Catlett Family / Licensed by VAGA at Artists Rights Society (ARS)\, NY
URL:https://www.thebiggsmuseum.org/event/the-art-of-elizabeth-catlett-from-the-collection-of-samella-lewis/
CATEGORIES:Current Exhibitions
END:VEVENT
BEGIN:VEVENT
DTSTART;TZID=America/New_York:20260212T100000
DTEND;TZID=America/New_York:20270412T170000
DTSTAMP:20260424T062627
CREATED:20260206T184826Z
LAST-MODIFIED:20260413T184530Z
UID:10000151-1770890400-1807549200@www.thebiggsmuseum.org
SUMMARY:Art Works For All: Celebration of Creativity
DESCRIPTION:1st Floor \nArt Works For All: Celebration of Creativity \nFebruary 12 – April 12\, 2026 \nArt Works for All is a mission-driven exhibition that celebrates creativity\, access\, and inclusion through the visual arts. The mission of Art Works for All is to enhance the capabilities\, confidence\, and quality of life for children and adults with disabilities by providing meaningful educational opportunities in the arts. This exhibition reflects that mission by centering the creative voices of program participants and presenting their work with the same care\, professionalism\, and respect afforded to any contemporary artist. \nArt Works for All designs\, develops\, and coordinates a visual arts exhibition that is installed within a community arts center. The exhibition showcases artwork created by program participants across a wide range of abilities and artistic approaches\, emphasizing personal expression\, experimentation\, and creative growth. For many artists involved\, this exhibition represents an important milestone: an opportunity to see their work displayed in a professional setting\, to be publicly recognized as artists\, and to share their perspectives with a broader audience. \nThe exhibition is intentionally structured to elevate participant work beyond the classroom or studio environment. Artwork is thoughtfully curated and professionally presented\, reinforcing the idea that artists with disabilities are vital contributors to the cultural landscape. By situating the exhibition in a public arts venue\, Art Works for All helps to reduce barriers to participation\, challenge preconceived notions about disability and creativity\, and expand public understanding of inclusive artistic practice. \nIn addition to its initial presentation\, the annual exhibition continues its impact through a touring component. During the following program year\, the exhibition travels to additional sites\, increasing access for new audiences and extending visibility for participating artists. This approach strengthens community connections while amplifying the reach and significance of inclusive visual arts programming. \nTogether\, the exhibition and its mission underscore the transformative power of the visual arts. Art Works for All affirms that creative expression builds confidence\, fosters connection\, and enriches communities\, while ensuring that artists of all abilities are seen\, valued\, and celebrated.
URL:https://www.thebiggsmuseum.org/event/art-works-for-all-celebration-of-creativity-2/
CATEGORIES:EXHIBITIONS
END:VEVENT
BEGIN:VEVENT
DTSTART;TZID=America/New_York:20260212T100000
DTEND;TZID=America/New_York:20270510T170000
DTSTAMP:20260424T062627
CREATED:20260206T185544Z
LAST-MODIFIED:20260413T184838Z
UID:10000152-1770890400-1809968400@www.thebiggsmuseum.org
SUMMARY:Adopt-An-Artwork: Student Exhibition
DESCRIPTION:1st Floor \nAdopt An Artwork \nFebruary 12 – May 10\, 2026 \nAdopt-An-Artwork: Student Exhibition is a culminating exhibition that highlights the creative and critical thinking of students from across Delaware who participated in the Biggs Museum of American Art’s Adopt-An-Artwork program during the 2025–2026 school year. This year\, 1\,572 students took part in the program\, engaging deeply with works from the museum’s permanent collection through sustained\, object-based learning experiences in their classrooms . \nAdopt-An-Artwork is an educational partnership between the Biggs Museum of American Art\, teachers\, and students that places original works of art at the center of interdisciplinary learning. Participating educators selected one of five artworks from the museum’s collection and received large-scale reproductions\, digital resources\, and classroom art supplies to support instruction. Through close looking\, discussion\, research\, and creative exploration\, students examined each artwork’s historical context\, materials\, themes\, and relevance to contemporary life. \nThe exhibition features selected student artworks created in response to these lessons. While the original collection objects serve as inspiration\, the student work reflects a wide range of personal interpretations\, media\, and subject matter. Some students responded to themes of nature\, environment\, and place\, while others explored storytelling\, identity\, history\, material culture\, or social change. Together\, these works demonstrate how a single object can spark inquiry across disciplines such as visual art\, history\, science\, language arts\, and social studies. \nDisplayed alongside the student artwork are interpretive materials that underscore the educational process behind the program\, emphasizing inquiry\, critical thinking\, and creative problem-solving. The exhibition celebrates not only finished artworks\, but also the role of teachers as curriculum designers and the importance of museums as active partners in education.
URL:https://www.thebiggsmuseum.org/event/adopt-an-artwork-student-exhibition/
CATEGORIES:Current Exhibitions,EXHIBITIONS
END:VEVENT
BEGIN:VEVENT
DTSTART;TZID=America/New_York:20260514T100000
DTEND;TZID=America/New_York:20260614T170000
DTSTAMP:20260424T062627
CREATED:20260413T193327Z
LAST-MODIFIED:20260413T193402Z
UID:10000235-1778752800-1781456400@www.thebiggsmuseum.org
SUMMARY:Emerging Voices: AP Art and Design Student Exhibition
DESCRIPTION:1st Floor \nEmerging Voices: AP Art and Design Student ExhibitionMay 14 – June 14\, 2026 \nEmerging Voices brings together a dynamic selection of work by advanced high school artists from Appoquinimink High School\, Dover High School\, Caesar Rodney High School\, Middletown High School\, and Smyrna High School. Developed through the rigorous Advanced Placement Art and Design program\, the featured portfolios represent a year of sustained inquiry\, experimentation\, and personal exploration. Each student’s work reflects a thoughtful engagement with materials\, concepts\, and processes\, resulting in compelling visual statements that speak to both individual perspective and shared contemporary themes. \nThe exhibition highlights the breadth of approaches fostered through the AP curriculum\, from traditional drawing and painting to digital media\, mixed media\, and three-dimensional work. Students investigate topics such as identity\, culture\, environment\, and social issues\, often pushing beyond technical skill to develop cohesive bodies of work grounded in research and creative problem-solving. The result is an exhibition that is both visually engaging and conceptually rich\, offering insight into the next generation of artists and thinkers. \nBy presenting these portfolios in a professional museum setting\, Emerging Voices provides students with a meaningful introduction to exhibition practices and the broader arts ecosystem. For many\, this marks a first experience sharing their work with a public audience\, building confidence and fostering a deeper understanding of how art functions within a community context. \nRooted in collaboration with local schools and educators\, this exhibition reflects an ongoing commitment to supporting arts education and creating pathways for young artists to be seen and celebrated. Emerging Voices invites visitors to discover fresh perspectives\, engage with new ideas\, and experience the creativity and vision shaping the future of the arts in our region.
URL:https://www.thebiggsmuseum.org/event/emerging-voices-ap-art-and-design-student-exhibition/
CATEGORIES:EXHIBITIONS,Future Exhibitions
ATTACH;FMTTYPE=image/webp:https://www.thebiggsmuseum.org/wp-content/uploads/2026/04/Website-Exhibition-Page-Images-AP-student-show-1.webp
END:VEVENT
BEGIN:VEVENT
DTSTART;TZID=America/New_York:20260528T100000
DTEND;TZID=America/New_York:20260816T170000
DTSTAMP:20260424T062627
CREATED:20260413T204832Z
LAST-MODIFIED:20260413T204832Z
UID:10000236-1779962400-1786899600@www.thebiggsmuseum.org
SUMMARY:Award Winners XXVI
DESCRIPTION:1st Floor \nAward Winners XXVIMay 28 – August 16\, 2026 \nAward Winners XXVI brings together the 2026 recipients of the Delaware Division of the Arts Individual Artist Fellowships in a vibrant\, multidisciplinary exhibition that highlights the depth and diversity of creative practice across the state. Selected through a rigorous\, blind review process conducted by out-of-state arts professionals\, twenty-seven artists were recognized for exceptional work spanning visual arts\, music\, literature\, media arts\, and interdisciplinary forms. Fellowships are awarded at the Master\, Established\, and Emerging levels\, acknowledging both artistic excellence and continued growth at every stage of a creative career. \nThis exhibition offers a rare opportunity to experience the work of Delaware’s most compelling contemporary artists in one space. From conceptually driven installations and finely crafted works on paper to experimental media and narrative-driven pieces\, Award Winners XXVI captures a wide range of artistic voices and approaches. Together\, the works reflect not only individual achievement\, but also the evolving cultural landscape of the region. \nRepresenting communities across Delaware\, the Fellows bring distinct perspectives shaped by personal experience\, place\, and practice. Their work explores themes ranging from identity and history to innovation\, storytelling\, and the boundaries of artistic expression. The result is a dynamic and engaging exhibition that invites visitors to discover new artists\, revisit familiar names\, and gain insight into the creative energy driving the state’s arts community today. \nPresented annually\, the Division’s fellowship program remains one of the most significant forms of recognition for artists in Delaware. Award Winners XXVI celebrates that achievement while offering audiences a meaningful connection to the artists shaping the future of the arts in our region.
URL:https://www.thebiggsmuseum.org/event/award-winners-xxvi/
CATEGORIES:EXHIBITIONS,Future Exhibitions
ATTACH;FMTTYPE=image/webp:https://www.thebiggsmuseum.org/wp-content/uploads/2026/04/Website-Exhibition-Page-Images-award-Winners.webp
END:VEVENT
END:VCALENDAR